BEGIN:VCALENDAR
VERSION:2.0
PRODID:-//Marine Raider Foundation - ECPv6.15.20//NONSGML v1.0//EN
CALSCALE:GREGORIAN
METHOD:PUBLISH
X-WR-CALNAME:Marine Raider Foundation
X-ORIGINAL-URL:https://marineraiderfoundation.org
X-WR-CALDESC:Events for Marine Raider Foundation
REFRESH-INTERVAL;VALUE=DURATION:PT1H
X-Robots-Tag:noindex
X-PUBLISHED-TTL:PT1H
BEGIN:VTIMEZONE
TZID:UTC
BEGIN:STANDARD
TZOFFSETFROM:+0000
TZOFFSETTO:+0000
TZNAME:UTC
DTSTART:20180101T000000
END:STANDARD
END:VTIMEZONE
BEGIN:VEVENT
DTSTART;TZID=UTC:20191108T180000
DTEND;TZID=UTC:20191108T220000
DTSTAMP:20260422T083516
CREATED:20190918T204822Z
LAST-MODIFIED:20190918T205313Z
UID:2121-1573236000-1573250400@marineraiderfoundation.org
SUMMARY:2019 Evening with Marine Raider Foundation & Mission2Alpha Hosted by Scottsdale Gun Club
DESCRIPTION:Plan to join the Scottsdale Gun Club\, the Marine Raider Foundation and Mission2Alpha Foundation as they welcome Captain Derek Herrera (USMC Retired) to the Scottsdale Gun Club on November 8th.  Capt. Herrera was one of our first guest speakers nearly eight years ago when he told his story of service as a Raider\, his combat wounds\, struggles with recovery\, and the discovery of hope and inspiration. Since Capt. Herrera’s first appearance at the Scottsdale Gun Club event\, he has gone on to inspire thousands with his story of hope\, courage\, and belief in serving a greater cause.   \nIncluded in this year’s event will be food\, music\, live and silent auctions\, as well as opportunities to meet Marine Raiders and other heroes. \nProceeds will go to assist the Marine Raider and Mission2Alpha Foundations as they continue their missions of assisting our military and first responder heroes.
URL:https://marineraiderfoundation.org/event/2019-evening-with-marine-raider-foundation-mission2alpha-hosted-by-scottsdale-gun-club/
LOCATION:Scottsdale Gun Club\, 14860 N Northsight Blvd.\, Scottsdale\, AZ\, 85260\, United States
CATEGORIES:Events
ATTACH;FMTTYPE=image/jpeg:https://marineraiderfoundation.org/wp-content/uploads/2019/09/2019-SGC-Flyer.jpg
ORGANIZER;CN="Mission2Alpha":MAILTO:johng@mission2alpha.org
END:VEVENT
END:VCALENDAR