BEGIN:VCALENDAR
VERSION:2.0
PRODID:-//Marine Raider Foundation - ECPv6.15.20//NONSGML v1.0//EN
CALSCALE:GREGORIAN
METHOD:PUBLISH
X-WR-CALNAME:Marine Raider Foundation
X-ORIGINAL-URL:https://marineraiderfoundation.org
X-WR-CALDESC:Events for Marine Raider Foundation
REFRESH-INTERVAL;VALUE=DURATION:PT1H
X-Robots-Tag:noindex
X-PUBLISHED-TTL:PT1H
BEGIN:VTIMEZONE
TZID:America/Los_Angeles
BEGIN:DAYLIGHT
TZOFFSETFROM:-0800
TZOFFSETTO:-0700
TZNAME:PDT
DTSTART:20180311T100000
END:DAYLIGHT
BEGIN:STANDARD
TZOFFSETFROM:-0700
TZOFFSETTO:-0800
TZNAME:PST
DTSTART:20181104T090000
END:STANDARD
BEGIN:DAYLIGHT
TZOFFSETFROM:-0800
TZOFFSETTO:-0700
TZNAME:PDT
DTSTART:20190310T100000
END:DAYLIGHT
BEGIN:STANDARD
TZOFFSETFROM:-0700
TZOFFSETTO:-0800
TZNAME:PST
DTSTART:20191103T090000
END:STANDARD
BEGIN:DAYLIGHT
TZOFFSETFROM:-0800
TZOFFSETTO:-0700
TZNAME:PDT
DTSTART:20200308T100000
END:DAYLIGHT
BEGIN:STANDARD
TZOFFSETFROM:-0700
TZOFFSETTO:-0800
TZNAME:PST
DTSTART:20201101T090000
END:STANDARD
END:VTIMEZONE
BEGIN:VEVENT
DTSTART;TZID=America/Los_Angeles:20191111T080000
DTEND;TZID=America/Los_Angeles:20191111T190000
DTSTAMP:20260420T082710
CREATED:20191022T155925Z
LAST-MODIFIED:20191022T155928Z
UID:2152-1573459200-1573498800@marineraiderfoundation.org
SUMMARY:Land of the Free Foundation Veteran's Day Golf Classic
DESCRIPTION:The Marine Raider Foundation is honored to be one of the beneficiaries of The Land of the Free Foundation Veterans Day Golf Classic\, the main fundraising event for the Land of the Free Foundation. The Land of the Free Foundation was started to recognize the men and woman of our armed services past\, present and future and their families who work and sacrifice every day to ensure that we will always live in the “Land of the Free.” \nOnly 50 foursomes are available for this one-day salute to America’s military so we encourage you to register now. All contributions are tax deductible and all proceeds from the event will go towards supporting charities that support America’s military and their families. \nThis year’s event will start Big and end Bigger. Every group will receive a generous package of tee prizes that has been donated to ensure all of your contributions go directly to this year’s designated beneficiaries. Click on the Beneficiaries link above to learn about where this year’s funds will go. In addition to the traditional golf tournament events you will be treated to members of every branch of the military who will be on hand to share their experiences and ensure that this will be a day of golf you will never forget. \nDon’t miss your opportunity to participate in what is the finest Charity Golf Tournament in all of Southern California and help us shatter our previous record of $1\,000\,000 net proceeds to Charities that support our men and women who sacrifice for us every day! \nEvent Information\nMonday\, November 11th\, 2019\n8:00-10:00am……Breakfast\, Registration and Putting Contest\n9:45am…………….Veterans Day Tribute\n10:00am…………..Call to the Tee\n11:30-1:30pm……Course Lunch\n4:00pm…………….Cocktail Reception\n5:00pm…………….Dinner and Awards Reception\n6:00pm…………….Keynote Address \nCourse Information\nWelcome to the new Pacific Palms\, one of California’s most historical and noteworthy golf facilities. The game’s greatest players have graced the greens of the Industry Hills Golf Club at the Pacific Palms Hotel for more than 25 years. \nToday we are rolling out more than 650 acres of lush green carpet for our most valued guest – you. Our championship links have been completely upgraded and modernized to provide the most compelling golf experience on the West Coast. \nSouthern California’s most prized golf gem is shining brighter after a multimillion-dollar renovation. This course update is the result of a five-year collaboration between the country’s top designers\, engineers\, and landscape specialists. The end result? An awe-inspiring 36 holes of championship golf\, new practice facilities and expanded resort amenities including restaurants\, pro shop and Spa. But diehard fans need not worry: the layout and colorful history remain unchanged. After all\, the goal was to add a new shine on this vintage gem. \nFor directions and more course information\, please visit our website https://www.pacificpalmsresort.com/ \nTo register\, please visit https://securepayment.link/landofthefreefoundation/2019-golf-classic-online-registration/
URL:https://marineraiderfoundation.org/event/land-of-the-free-foundation-veterans-day-golf-classic/
LOCATION:Pacific Palms Resort\, One Industry Hills Pkwy\, City of Industry\, CA\, 91744
CATEGORIES:Events
ATTACH;FMTTYPE=image/png:https://marineraiderfoundation.org/wp-content/uploads/2019/10/loflogo-r.png
ORGANIZER;CN="Land of the Free Foundation":MAILTO:info@landofthefreefoundation.org
END:VEVENT
END:VCALENDAR