BEGIN:VCALENDAR
VERSION:2.0
PRODID:-//Marine Raider Foundation - ECPv6.15.20//NONSGML v1.0//EN
CALSCALE:GREGORIAN
METHOD:PUBLISH
X-ORIGINAL-URL:https://marineraiderfoundation.org
X-WR-CALDESC:Events for Marine Raider Foundation
REFRESH-INTERVAL;VALUE=DURATION:PT1H
X-Robots-Tag:noindex
X-PUBLISHED-TTL:PT1H
BEGIN:VTIMEZONE
TZID:UTC
BEGIN:STANDARD
TZOFFSETFROM:+0000
TZOFFSETTO:+0000
TZNAME:UTC
DTSTART:20190101T000000
END:STANDARD
END:VTIMEZONE
BEGIN:VEVENT
DTSTART;VALUE=DATE:20200314
DTEND;VALUE=DATE:20200315
DTSTAMP:20260419T225253
CREATED:20191210T231206Z
LAST-MODIFIED:20191210T231208Z
UID:2178-1584144000-1584230399@marineraiderfoundation.org
SUMMARY:Croatan Buck Fifty
DESCRIPTION:THE FIFTY\, THE BUCK & THE BUCK FIFTY\n\n\n\n\n\n\n\n\n\n\n\n\n\n\nThe Marine Raider Foundation is honored to be the Charity Partner of the 2020 Croatan Buck Fifty!\n\n\n\n\n\n\n\n\nStarting at Carteret County Speedway\, the races will cover a 48 mile lap that returns to the Speedway Pits each time. \nThe TWENTY is a half lap\, 20 Miles. \nThe FIFTY is one lap\, 48 Miles. \nThe BUCK is two laps\, 96 miles. \nThe BUCK FIFTY is three laps\, 144 miles. \n95% of the lap is on gravel roads through Croatan National Forest. \nRace is SOLD OUT for 2020!
URL:https://marineraiderfoundation.org/event/croatan-buck-fifty/
LOCATION:Carteret County Speedway\, Cedar Point\, NC\, United States
CATEGORIES:Events
ATTACH;FMTTYPE=image/png:https://marineraiderfoundation.org/wp-content/uploads/2019/12/CBF150LOGOsmall.png
ORGANIZER;CN="Croatan Buck Fifty":MAILTO:info@croatanbuckfifty.com
END:VEVENT
END:VCALENDAR